BEGIN:VCALENDAR
VERSION:2.0
PRODID:-//AFCPE - ECPv6.15.20//NONSGML v1.0//EN
CALSCALE:GREGORIAN
METHOD:PUBLISH
X-ORIGINAL-URL:https://www.afcpe.org
X-WR-CALDESC:Events for AFCPE
REFRESH-INTERVAL;VALUE=DURATION:PT1H
X-Robots-Tag:noindex
X-PUBLISHED-TTL:PT1H
BEGIN:VTIMEZONE
TZID:America/New_York
BEGIN:DAYLIGHT
TZOFFSETFROM:-0500
TZOFFSETTO:-0400
TZNAME:EDT
DTSTART:20230312T070000
END:DAYLIGHT
BEGIN:STANDARD
TZOFFSETFROM:-0400
TZOFFSETTO:-0500
TZNAME:EST
DTSTART:20231105T060000
END:STANDARD
BEGIN:DAYLIGHT
TZOFFSETFROM:-0500
TZOFFSETTO:-0400
TZNAME:EDT
DTSTART:20240310T070000
END:DAYLIGHT
BEGIN:STANDARD
TZOFFSETFROM:-0400
TZOFFSETTO:-0500
TZNAME:EST
DTSTART:20241103T060000
END:STANDARD
BEGIN:DAYLIGHT
TZOFFSETFROM:-0500
TZOFFSETTO:-0400
TZNAME:EDT
DTSTART:20250309T070000
END:DAYLIGHT
BEGIN:STANDARD
TZOFFSETFROM:-0400
TZOFFSETTO:-0500
TZNAME:EST
DTSTART:20251102T060000
END:STANDARD
END:VTIMEZONE
BEGIN:VEVENT
DTSTART;VALUE=DATE:20240506
DTEND;VALUE=DATE:20240507
DTSTAMP:20260424T122307
CREATED:20230120T163953Z
LAST-MODIFIED:20230120T164045Z
UID:10002428-1714953600-1715039999@www.afcpe.org
SUMMARY:Financial Social Work Certificate Program (Mar-Oct)
DESCRIPTION:UMSSW’s Financial Social Work Initiative (FSWI) is launching its next online version of the Financial Social Work (FSW) Certificate Program through UMSSW’s Continuing Professional Education (CPE) Office in March 2023! It will meet an identified need for greater financial capability and empowerment knowledge on the part of social workers who practice in non-profit and other social service agencies\, as well as in schools\, medical settings\, and justice and court settings\, and beyond. The FSW Certificate Program will run over multiple sessions from March 2023 to September 2023. Participants must take all the sessions to complete the course. The online formatting design of the FSW Certificate Program will enable rich class discussion and learning through interaction among the macro and clinical practitioners from across the nation. Besides key educators\, the program will feature guest speakers from this important\, emerging area. \nProgram consists of three-course sections- 14 CEUs per section. \nThe FSW Certificate Program is offered typically March-October. It is a virtual program comprised of 16 half-days from 1:00 to 4:30pm EST. Click here for more information on the FSW Certificate Program.
URL:https://www.afcpe.org/event/financial-social-work-certificate-program/2024-05-06/
LOCATION:Webinar / Online Meeting\, Online Meeting
GEO:44.9622573;-93.4426615
X-APPLE-STRUCTURED-LOCATION;VALUE=URI;X-ADDRESS=Webinar / Online Meeting Online Meeting;X-APPLE-RADIUS=500;X-TITLE=Online Meeting:geo:-93.4426615,44.9622573
END:VEVENT
BEGIN:VEVENT
DTSTART;TZID=America/New_York:20240507T110000
DTEND;TZID=America/New_York:20240507T130000
DTSTAMP:20260424T122307
CREATED:20240401T144022Z
LAST-MODIFIED:20240430T193214Z
UID:10002613-1715079600-1715086800@www.afcpe.org
SUMMARY:Ethical Decision Making for Accredited Financial Counselors: An Interactive Exploration of Standards and Practices
DESCRIPTION:Cultivate ethical decision-making skills essential for Accredited Financial Counselors (AFC) in this interactive course. Delve into the standards of practice governing AFCs\, exploring real-world scenarios and case studies. Through engaging discussions and activities\, participants will gain a deep understanding of ethical principles and their application in financial counseling. Equip yourself with the tools to navigate complex ethical dilemmas with confidence and integrity. \nAfter completing this webinar\, financial professionals will be able to: \n\nUnderstand the standards of practice outlined by the AFCPE (Association for Financial Counseling and Planning Education) and their significance in guiding the ethical practice of Accredited Financial Counselors (AFC®).\nIdentify common ethical dilemmas faced by AFCs in their professional practice\, analyzing them through the lens of the AFCPE Code of Ethics and Standards of Practice.\nApply ethical decision-making frameworks to real-world scenarios encountered in financial counseling\, considering factors such as client confidentiality\, conflicts of interest\, and professional boundaries.\nEnhance communication and interpersonal skills necessary for navigating ethically challenging situations\, fostering trust and transparency with clients while upholding the highest standards of integrity and professionalism.\n\n 
URL:https://www.afcpe.org/event/ethical-decision-making-for-accredited-financial-counselors-an-interactive-exploration-of-standards-and-practices/
LOCATION:Webinar / Online Meeting\, Online Meeting
GEO:44.9622573;-93.4426615
X-APPLE-STRUCTURED-LOCATION;VALUE=URI;X-ADDRESS=Webinar / Online Meeting Online Meeting;X-APPLE-RADIUS=500;X-TITLE=Online Meeting:geo:-93.4426615,44.9622573
END:VEVENT
BEGIN:VEVENT
DTSTART;TZID=America/New_York:20240507T120000
DTEND;TZID=America/New_York:20240507T130000
DTSTAMP:20260424T122307
CREATED:20240423T145411Z
LAST-MODIFIED:20240423T145411Z
UID:10002619-1715083200-1715086800@www.afcpe.org
SUMMARY:Member Meet-Up: Gig Economy Conversations
DESCRIPTION:Are you a financial pro helping clients navigate the landscape of the gig economy? Are you eager to connect with fellow coaches and share insights\, strategies\, and resources for empowering individuals in non-traditional work arrangements? \nThen mark your calendar and join us for Member Meet-Up: Gig Economy Conversations! This isn’t your typical webinar or presentation—it’s a dynamic gathering where members take the spotlight! Get ready to roll up your sleeves\, exchange ideas\, and dive deep into discussions about coaching individuals thriving in the gig economy. \nWhat to Expect: \n-️ Open Conversations: This event is all about you! Come prepared to share your experiences\, strategies\, and challenges as a financial coach working with gig economy professionals. Whether you specialize in budgeting\, debt management\, retirement planning\, or all of the above\, your insights are invaluable. \n– Networking: Connect with like-minded counselors and coaches who understand the unique needs and aspirations of gig workers. \n– Resource Sharing: Bring your tips\, and resources tailored to coaching individuals in the gig economy. From budgeting apps to tax preparation software to educational materials\, uncover valuable assets to support your clients on their financial journeys. \n  \nHow to Participate: Participation is simple—just bring your enthusiasm\, expertise\, and eagerness to connect with other professionals in the financial space.
URL:https://www.afcpe.org/event/member-meet-up-gig-economy-conversations/
LOCATION:Webinar / Online Meeting\, Online Meeting
GEO:44.9622573;-93.4426615
X-APPLE-STRUCTURED-LOCATION;VALUE=URI;X-ADDRESS=Webinar / Online Meeting Online Meeting;X-APPLE-RADIUS=500;X-TITLE=Online Meeting:geo:-93.4426615,44.9622573
END:VEVENT
BEGIN:VEVENT
DTSTART;TZID=America/New_York:20240509T090000
DTEND;TZID=America/New_York:20240509T170000
DTSTAMP:20260424T122307
CREATED:20240209T180926Z
LAST-MODIFIED:20240510T141535Z
UID:10002593-1715245200-1715274000@www.afcpe.org
SUMMARY:Personal Finance Seminar for Professionals
DESCRIPTION:Personal Finance Seminar for Professionals\nThe Personal Finance Seminar for Professionals is an annual program coordinated by the Financial Wellness Team within Family and Consumer Sciences. The objective is to provide relevant financial information and resources via a virtual environment to financial educators\, financial professionals\, and financial counselors. This year will be the 36th annual Personal Finance Seminar for Professionals (PFS). For the past six years\, the Seminar has been offered virtually. The Seminar will run from 9 am-5 pm. \n\n\n\n\n\n\n\n\n\n\n\n\n\nThis opportunity will satisfy the Ethics/Standards of Practice Requirement.
URL:https://www.afcpe.org/event/personal-finance-seminar-for-professionals-2/
LOCATION:Webinar / Online Meeting\, Online Meeting
GEO:44.9622573;-93.4426615
X-APPLE-STRUCTURED-LOCATION;VALUE=URI;X-ADDRESS=Webinar / Online Meeting Online Meeting;X-APPLE-RADIUS=500;X-TITLE=Online Meeting:geo:-93.4426615,44.9622573
END:VEVENT
BEGIN:VEVENT
DTSTART;TZID=America/New_York:20240509T120000
DTEND;TZID=America/New_York:20240509T130000
DTSTAMP:20260424T122307
CREATED:20240422T223649Z
LAST-MODIFIED:20240425T205815Z
UID:10002617-1715256000-1715259600@www.afcpe.org
SUMMARY:Emotional Currency: Navigating Emotion's Influence on Financial Decision-Making
DESCRIPTION:In this webinar\, Amy Smith\, AFC\, CFT-I explores practical techniques for financial counselors\, coaches\, and advisors to assist clients in navigating their emotions effectively when managing their finances. \nIn this session\, we will look at the intersection of emotion regulation and financial decision-making\, offering strategies applicable to clients facing various emotional challenges. Drawing from evidence-based approaches such as Dialectical Behavioral Therapy (DBT) and Cognitive Behavioral Therapy (CBT)\, attendees will learn actionable techniques to support clients in understanding and managing their emotions in the context of their finances. \nThis webinar is designed to empower financial professionals with the tools and insights necessary to assist clients in making informed financial decisions\, regardless of their emotional struggles. Whether you’re new to the field or a seasoned practitioner\, this session provides valuable perspectives and practical guidance for enhancing client outcomes. \nAmy Smith is an Accredited Financial Counselor (AFC®️) and owner of My BPD\, My Money\, where her primary focus is on empowering women facing mental health challenges to overcome financial hurdles using evidence-based coaching techniques. With a practice centered around “financial coaching with your mind in mind\,” Amy strives to provide tailored\, human-centered guidance for her clients\, helping them navigate the intersection of their mental health & their money. \n 
URL:https://www.afcpe.org/event/emotional-currency-navigating-emotions-influence-on-financial-decision-making/
LOCATION:Webinar / Online Meeting\, Online Meeting
GEO:44.9622573;-93.4426615
X-APPLE-STRUCTURED-LOCATION;VALUE=URI;X-ADDRESS=Webinar / Online Meeting Online Meeting;X-APPLE-RADIUS=500;X-TITLE=Online Meeting:geo:-93.4426615,44.9622573
END:VEVENT
BEGIN:VEVENT
DTSTART;TZID=America/New_York:20240515T150000
DTEND;TZID=America/New_York:20240515T160000
DTSTAMP:20260424T122307
CREATED:20240110T180318Z
LAST-MODIFIED:20240110T180318Z
UID:10002573-1715785200-1715788800@www.afcpe.org
SUMMARY:Wanna be an AFC®? May Webinar
DESCRIPTION:Wanna be an AFC®? May Webinar\nAre you interested in becoming an Accredited Financial Counselor (AFC®) but not sure if it’s right for you?  Join us for a no-pressure\, informative session where we will give you all the information you need to make your decision. Bring your questions–we love an engaged audience!
URL:https://www.afcpe.org/event/wanna-be-an-afc-may-webinar/
LOCATION:Webinar / Online Meeting\, Online Meeting
GEO:44.9622573;-93.4426615
X-APPLE-STRUCTURED-LOCATION;VALUE=URI;X-ADDRESS=Webinar / Online Meeting Online Meeting;X-APPLE-RADIUS=500;X-TITLE=Online Meeting:geo:-93.4426615,44.9622573
END:VEVENT
BEGIN:VEVENT
DTSTART;TZID=America/New_York:20240516T110000
DTEND;TZID=America/New_York:20240518T200000
DTSTAMP:20260424T122307
CREATED:20240422T191444Z
LAST-MODIFIED:20240422T191444Z
UID:10002616-1715857200-1716062400@www.afcpe.org
SUMMARY:FTA 2024 Conference
DESCRIPTION:Financial Therapy for All: Across Cultures\, Across Generations \nCompletion Code: FTAC24
URL:https://www.afcpe.org/event/fta-2024-conference/
LOCATION:Hyatt Regency La Jolla at Aventine.
END:VEVENT
BEGIN:VEVENT
DTSTART;TZID=America/New_York:20240516T120000
DTEND;TZID=America/New_York:20240516T130000
DTSTAMP:20260424T122307
CREATED:20240423T150115Z
LAST-MODIFIED:20240520T142538Z
UID:10002620-1715860800-1715864400@www.afcpe.org
SUMMARY:FPA Connect:  Education Planning: Student Loans and Beyond
DESCRIPTION:In an increasingly competitive economic environment\, pursuing post high school education is viewed by many as a requirement for success. Even while many families view follow-on education as a “must-do”\, many are not fully understanding the financial impact of funding a child’s education or creating a plan to manage it. Often\, families are reacting to a fire that is starting to burn instead of creating a strategic plan for success. This webinar will describe the varied ways families can pay for education expenses\, provide pros/cons of each way\, and provide a framework for how counselors and planners can navigate educational planning discussions with their clients.
URL:https://www.afcpe.org/event/fpa-connect-education-planning-student-loans-and-beyond/
LOCATION:Webinar / Online Meeting\, Online Meeting
GEO:44.9622573;-93.4426615
X-APPLE-STRUCTURED-LOCATION;VALUE=URI;X-ADDRESS=Webinar / Online Meeting Online Meeting;X-APPLE-RADIUS=500;X-TITLE=Online Meeting:geo:-93.4426615,44.9622573
END:VEVENT
BEGIN:VEVENT
DTSTART;TZID=America/New_York:20240522T120000
DTEND;TZID=America/New_York:20240522T130000
DTSTAMP:20260424T122307
CREATED:20240424T221258Z
LAST-MODIFIED:20240424T221258Z
UID:10002622-1716379200-1716382800@www.afcpe.org
SUMMARY:See Financial Inclusion Essentials & Diversity\, Equity\, and Inclusion Essentials in Action
DESCRIPTION:Better serve a diversity of clients with these robust\, self-paced courses: Financial Inclusion Essentials (10 CEUs) and Diversity\, Equity\, and Inclusion Essentials (12 CEUs)\nFrom ABLE accounts for clients with disabilities to legal considerations for LGBTQ+ clients\, you will walk away with tools to make a concrete difference in the lives of your clients and the accessibility of your practice. Both courses satisfy the Ethics/SOP requirement for AFCs!
URL:https://www.afcpe.org/event/see-financial-inclusion-essentials-diversity-equity-and-inclusion-essentials-in-action/
LOCATION:Webinar / Online Meeting\, Online Meeting
GEO:44.9622573;-93.4426615
X-APPLE-STRUCTURED-LOCATION;VALUE=URI;X-ADDRESS=Webinar / Online Meeting Online Meeting;X-APPLE-RADIUS=500;X-TITLE=Online Meeting:geo:-93.4426615,44.9622573
END:VEVENT
BEGIN:VEVENT
DTSTART;TZID=America/New_York:20240522T130000
DTEND;TZID=America/New_York:20240522T143000
DTSTAMP:20260424T122307
CREATED:20240425T210601Z
LAST-MODIFIED:20240506T161204Z
UID:10002623-1716382800-1716388200@www.afcpe.org
SUMMARY:Stay Connected: Helping consumers understand smartphone/computer warranty rights
DESCRIPTION:Earlier this year\, the Pew Research Center reported that 9 in 10 Americans own a smartphone\, and that it’s especially common for lower-income households and households with lower formal education levels to rely on them for internet access. With the smartphones\, tablets and computers we depend on to stay connected taking a significant bite out of our budget\, it’s important for consumers to understand their options and rights when it comes to protecting their investment. We are inviting consumer educators and advocates to a free\, in-person training on smartphone\, tablet and computer warranty rights. \nAGENDA: (10:00 a.m. to 11:30 p.m. PT)\nOur virtual session\, being held on May 22\, will feature presentations by speakers offering practical information to help educators and advocates help clients understand and assert their consumer warranty rights when dealing with defective or malfunctioning devices and make informed choices about optional extended warranties and device insurance. \n• Attorney Elliot Conn\, founder and principal of Conn Law\, PC\, will provide an overview of consumer warranty rights\, discuss how digital device warranties work\, and provide tips on filing warranty claims and anticipating potential warranty disputes.(45 minutes) \n• Nathan Proctor\, senior director of US PIRG’s Campaign for the Right to Repair\, will discuss the movement to expand repair rights across the country\, including California’s new “right to repair” law (taking effect this summer) and similar laws in other states. (45 minutes)
URL:https://www.afcpe.org/event/stay-connected-helping-consumers-understand-smartphone-computer-warranty-rights/
LOCATION:Webinar / Online Meeting\, Online Meeting
GEO:44.9622573;-93.4426615
X-APPLE-STRUCTURED-LOCATION;VALUE=URI;X-ADDRESS=Webinar / Online Meeting Online Meeting;X-APPLE-RADIUS=500;X-TITLE=Online Meeting:geo:-93.4426615,44.9622573
END:VEVENT
END:VCALENDAR