BEGIN:VCALENDAR
VERSION:2.0
PRODID:-//AFCPE - ECPv6.15.20//NONSGML v1.0//EN
CALSCALE:GREGORIAN
METHOD:PUBLISH
X-WR-CALNAME:AFCPE
X-ORIGINAL-URL:https://www.afcpe.org
X-WR-CALDESC:Events for AFCPE
REFRESH-INTERVAL;VALUE=DURATION:PT1H
X-Robots-Tag:noindex
X-PUBLISHED-TTL:PT1H
BEGIN:VTIMEZONE
TZID:America/New_York
BEGIN:DAYLIGHT
TZOFFSETFROM:-0500
TZOFFSETTO:-0400
TZNAME:EDT
DTSTART:20230312T070000
END:DAYLIGHT
BEGIN:STANDARD
TZOFFSETFROM:-0400
TZOFFSETTO:-0500
TZNAME:EST
DTSTART:20231105T060000
END:STANDARD
BEGIN:DAYLIGHT
TZOFFSETFROM:-0500
TZOFFSETTO:-0400
TZNAME:EDT
DTSTART:20240310T070000
END:DAYLIGHT
BEGIN:STANDARD
TZOFFSETFROM:-0400
TZOFFSETTO:-0500
TZNAME:EST
DTSTART:20241103T060000
END:STANDARD
BEGIN:DAYLIGHT
TZOFFSETFROM:-0500
TZOFFSETTO:-0400
TZNAME:EDT
DTSTART:20250309T070000
END:DAYLIGHT
BEGIN:STANDARD
TZOFFSETFROM:-0400
TZOFFSETTO:-0500
TZNAME:EST
DTSTART:20251102T060000
END:STANDARD
END:VTIMEZONE
BEGIN:VEVENT
DTSTART;VALUE=DATE:20240205
DTEND;VALUE=DATE:20240206
DTSTAMP:20260425T083243
CREATED:20230120T163953Z
LAST-MODIFIED:20230120T164045Z
UID:10002425-1707091200-1707177599@www.afcpe.org
SUMMARY:Financial Social Work Certificate Program (Mar-Oct)
DESCRIPTION:UMSSW’s Financial Social Work Initiative (FSWI) is launching its next online version of the Financial Social Work (FSW) Certificate Program through UMSSW’s Continuing Professional Education (CPE) Office in March 2023! It will meet an identified need for greater financial capability and empowerment knowledge on the part of social workers who practice in non-profit and other social service agencies\, as well as in schools\, medical settings\, and justice and court settings\, and beyond. The FSW Certificate Program will run over multiple sessions from March 2023 to September 2023. Participants must take all the sessions to complete the course. The online formatting design of the FSW Certificate Program will enable rich class discussion and learning through interaction among the macro and clinical practitioners from across the nation. Besides key educators\, the program will feature guest speakers from this important\, emerging area. \nProgram consists of three-course sections- 14 CEUs per section. \nThe FSW Certificate Program is offered typically March-October. It is a virtual program comprised of 16 half-days from 1:00 to 4:30pm EST. Click here for more information on the FSW Certificate Program.
URL:https://www.afcpe.org/event/financial-social-work-certificate-program/2024-02-05/
LOCATION:Webinar / Online Meeting\, Online Meeting
GEO:44.9622573;-93.4426615
X-APPLE-STRUCTURED-LOCATION;VALUE=URI;X-ADDRESS=Webinar / Online Meeting Online Meeting;X-APPLE-RADIUS=500;X-TITLE=Online Meeting:geo:-93.4426615,44.9622573
END:VEVENT
BEGIN:VEVENT
DTSTART;TZID=America/New_York:20240206T080000
DTEND;TZID=America/New_York:20240206T170000
DTSTAMP:20260425T083243
CREATED:20240110T235559Z
LAST-MODIFIED:20240110T235559Z
UID:10002581-1707206400-1707238800@www.afcpe.org
SUMMARY:Helping Homeowners Avoid Foreclosure
DESCRIPTION:Helping Homeowners Avoid Foreclosure\nJoin Consumer Action on Tuesday\, Feb. 6\, for our virtual train-the-trainer “Helping Homeowners Avoid Foreclosure.” The webinar panel of speakers will include Andrea Bopp Stark\, senior attorney with the National Consumer Law Center (NCLC) and Stacey Tutt\, Homeowner Assistance Fund coordinator and senior staff attorney with the National Housing Law Project (NHLP). \nThis train-the-trainer will cover (1.5 hours):\n– Foreclosure basics: Understanding mortgage delinquency and the foreclosure process\n– Foreclosure prevention options that help homeowners keep their home\, or exit homeownership\, while minimizing negative consequences\n– How HUD-certified housing counselors can help\n– When consumers should seek help from an attorney and where to find free or low-cost legal assistance
URL:https://www.afcpe.org/event/helping-homeowners-avoid-foreclosure/
LOCATION:Webinar / Online Meeting\, Online Meeting
GEO:44.9622573;-93.4426615
X-APPLE-STRUCTURED-LOCATION;VALUE=URI;X-ADDRESS=Webinar / Online Meeting Online Meeting;X-APPLE-RADIUS=500;X-TITLE=Online Meeting:geo:-93.4426615,44.9622573
END:VEVENT
BEGIN:VEVENT
DTSTART;TZID=America/New_York:20240206T120000
DTEND;TZID=America/New_York:20240206T130000
DTSTAMP:20260425T083243
CREATED:20240110T174842Z
LAST-MODIFIED:20240110T174842Z
UID:10002567-1707220800-1707224400@www.afcpe.org
SUMMARY:Member Meetup: The Philosophical Paradigms and Behavioral Profiles in Financial Counseling—Understanding Advisor Impact
DESCRIPTION:Member Meetup: The Philosophical Paradigms and Behavioral Profiles in Financial Counseling—Understanding Advisor Impact\nJoin us on February 6th at 12pm ET with Shawn Shahpari\, AFC. \nWe will delve into the diverse philosophical perspectives within financial counseling\, discuss how advisors’ beliefs shape their interactions with clients\, and then introduce the DISC analysis to illustrate how different personality profiles influence advisory styles.
URL:https://www.afcpe.org/event/member-meetup-the-philosophical-paradigms-and-behavioral-profiles-in-financial-counseling-understanding-advisor-impact/
LOCATION:Webinar / Online Meeting\, Online Meeting
GEO:44.9622573;-93.4426615
X-APPLE-STRUCTURED-LOCATION;VALUE=URI;X-ADDRESS=Webinar / Online Meeting Online Meeting;X-APPLE-RADIUS=500;X-TITLE=Online Meeting:geo:-93.4426615,44.9622573
END:VEVENT
BEGIN:VEVENT
DTSTART;TZID=America/New_York:20240207T110000
DTEND;TZID=America/New_York:20240207T123000
DTSTAMP:20260425T083243
CREATED:20231221T005422Z
LAST-MODIFIED:20231221T010840Z
UID:10002558-1707303600-1707309000@www.afcpe.org
SUMMARY:The ABCs of Disability Benefits: Your Guide to SSDI & SSI in 2024
DESCRIPTION:The ABCs of Disability Benefits: Your Guide to SSDI & SSI in 2024\nWhat happens when you’re not able to work for an extended period of time due to a medical condition? What about a child dealing with an issue that impairs her/his day-to-day function? Social Security may be able to help! The Social Security Administration oversees two disability-centric initiatives: Social Security Disability Insurance (SSDI) and Supplemental Security Income (SSI). Both programs aim to furnish financial aid to those contending with disabilities\, but each has its own criteria for work requirements and financial eligibility. While SSDI and SSI diverge in their operational nuances\, eligibility hinges on meeting stringent criteria pertaining to the nature and extent of the disability\, coupled with limitations on income and resources. During this session\, participants will learn more about SSDI and SSI as well as gain information and resources to help navigate the complex landscape of disability benefits.
URL:https://www.afcpe.org/event/the-abcs-of-disability-benefits-your-guide-to-ssdi-ssi-in-2024/
END:VEVENT
BEGIN:VEVENT
DTSTART;TZID=America/New_York:20240208T120000
DTEND;TZID=America/New_York:20240208T130000
DTSTAMP:20260425T083243
CREATED:20231208T193938Z
LAST-MODIFIED:20240216T185638Z
UID:10002557-1707393600-1707397200@www.afcpe.org
SUMMARY:Rescheduled: Finance in Full Color: Effectively serving diverse communities
DESCRIPTION:Finance in Full Color: Effectively serving diverse communities\nThis event was rescheduled for 2/22: Register here!\nHow can you tailor educational materials to be inclusive? This webinar aims to provide actionable tips for fostering diversity\, equity\, and inclusion in financial counseling. With presenter Markia Brown\, AFC®️\, and special guest Rahkim Sabree\, AFC®️ at the helm\, the session delves deep into the relevance of culturally sensitive practices\, focusing on the pitfalls of “one size fits all” approaches and the power of tailoring financial advice to diverse backgrounds. \n$50 or free for members.
URL:https://www.afcpe.org/event/finance-in-full-color-effectively-serving-diverse-communities/
LOCATION:Webinar / Online Meeting\, Online Meeting
GEO:44.9622573;-93.4426615
X-APPLE-STRUCTURED-LOCATION;VALUE=URI;X-ADDRESS=Webinar / Online Meeting Online Meeting;X-APPLE-RADIUS=500;X-TITLE=Online Meeting:geo:-93.4426615,44.9622573
END:VEVENT
BEGIN:VEVENT
DTSTART;TZID=America/New_York:20240213T120000
DTEND;TZID=America/New_York:20240213T130000
DTSTAMP:20260425T083243
CREATED:20240110T175005Z
LAST-MODIFIED:20240110T175005Z
UID:10002568-1707825600-1707829200@www.afcpe.org
SUMMARY:Practitioners Unite! 5 Sectors of Professional Connections
DESCRIPTION:Practitioners Unite! 5 Sectors of Professional Connections\nJoin us on Tuesday\, February 13th at 12 pm ET for a virtual networking coffee chat! These sessions are made successful by your ideas and interaction\, so come ready to chat! \nThis month will discuss professional connections within the 5 Sectors: Business\, Education\, Government\, Nonprofit\, and faith-based from the Five Sector Strategy framework. \nHere are some questions to consider: \n\nHow do you identify and establish strategic partnerships within the sectors?\nCan you share experiences of networking events\, conferences\, or programs that have been particularly impactful?\nCan you share a successful collaboration or partnership that has positively impacted yourself or your clients?\n\nConnect with other financial professionals from various industries\, exchange ideas\, and expand your network—all from the comfort of your home. Engage in meaningful conversations\, discover new opportunities\, and build valuable connections in a relaxed and inviting atmosphere. Grab your favorite cup of coffee and get ready to network with like-minded individuals eager to share\, connect and collaborate. Register now\, and let’s sip\, chat\, and network together!
URL:https://www.afcpe.org/event/practitioners-unite-5-sectors-of-professional-connections/
LOCATION:Webinar / Online Meeting\, Online Meeting
GEO:44.9622573;-93.4426615
X-APPLE-STRUCTURED-LOCATION;VALUE=URI;X-ADDRESS=Webinar / Online Meeting Online Meeting;X-APPLE-RADIUS=500;X-TITLE=Online Meeting:geo:-93.4426615,44.9622573
END:VEVENT
BEGIN:VEVENT
DTSTART;TZID=America/New_York:20240213T130000
DTEND;TZID=America/New_York:20240213T140000
DTSTAMP:20260425T083243
CREATED:20240118T004207Z
LAST-MODIFIED:20240118T004312Z
UID:10002584-1707829200-1707832800@www.afcpe.org
SUMMARY:Cracking the Code: Unraveling the Psychology Behind Employee Apathy in Employer Financial Wellness Programs
DESCRIPTION:Cracking the Code: Unraveling the Psychology Behind Employee Apathy in Employer Financial Wellness Programs\nThis presentation delves into the evidence-based understanding of why employees often fail to engage with financial wellness programs. Financial planners and coaches will benefit from a comprehensive exploration of the psychological barriers backed by research and practical experience. We will dissect the root causes of employee apathy and offer a range of actionable strategies\, supported by real-world examples\, to empower financial professionals in effectively dismantling these barriers. By the end of this session\, you’ll be equipped with the knowledge and tools to inspire active engagement\, fostering improved financial outcomes for employees (your clients) within these employer financial wellness programs.
URL:https://www.afcpe.org/event/cracking-the-code-unraveling-the-psychology-behind-employee-apathy-in-employer-financial-wellness-programs/
LOCATION:Webinar / Online Meeting\, Online Meeting
GEO:44.9622573;-93.4426615
X-APPLE-STRUCTURED-LOCATION;VALUE=URI;X-ADDRESS=Webinar / Online Meeting Online Meeting;X-APPLE-RADIUS=500;X-TITLE=Online Meeting:geo:-93.4426615,44.9622573
END:VEVENT
BEGIN:VEVENT
DTSTART;TZID=America/New_York:20240215T120000
DTEND;TZID=America/New_York:20240215T130000
DTSTAMP:20260425T083243
CREATED:20231208T193647Z
LAST-MODIFIED:20231208T193647Z
UID:10002556-1707998400-1708002000@www.afcpe.org
SUMMARY:The Current State of Federal Student Loan Repayment
DESCRIPTION:The Current State of Federal Student Loan Repayment\nThe SAVE federal student loan repayment plan is set to take effect in the summer of 2024. Are you prepared? Additionally\, we’ll delve into the conclusion of PAYE and the expiration of the double consolidation loophole in 2025. With significant changes on the horizon in the realm of student loan repayment\, our upcoming webinar will cover the current state of student loan repayment\, potential upcoming forgiveness plans\, and time-sensitive updates crucial for every financial counselor and planner. Don’t miss out!
URL:https://www.afcpe.org/event/the-current-state-of-federal-student-loan-repayment/
LOCATION:Webinar / Online Meeting\, Online Meeting
GEO:44.9622573;-93.4426615
X-APPLE-STRUCTURED-LOCATION;VALUE=URI;X-ADDRESS=Webinar / Online Meeting Online Meeting;X-APPLE-RADIUS=500;X-TITLE=Online Meeting:geo:-93.4426615,44.9622573
END:VEVENT
BEGIN:VEVENT
DTSTART;TZID=America/New_York:20240220T110000
DTEND;TZID=America/New_York:20240220T123000
DTSTAMP:20260425T083243
CREATED:20231221T011035Z
LAST-MODIFIED:20231221T011050Z
UID:10002559-1708426800-1708432200@www.afcpe.org
SUMMARY:Supporting Military Families in the Artificial Intelligence Era
DESCRIPTION:Supporting Military Families in the Artificial Intelligence Era\nArtificial Intelligence (AI) can provide valuable assistance to family service providers in various ways\, enhancing their ability to offer support and improve outcomes for their clients. Explore AI as a tool for family service providers to increase efficiencies\, creativity and engagement in their work with military families. While AI can offer opportunities for family service providers\, it should be deployed thoughtfully in order to enhance the relational aspects of service delivery and with workplace policies in mind. In an evolving artificial intelligence landscape\, it is essential for family service providers to consider the social impacts for military families including employment and workforce changes\, fraud/scams\, privacy concerns\, and AI bias/discrimination.
URL:https://www.afcpe.org/event/supporting-military-families-in-the-artificial-intelligence-era/
LOCATION:Webinar / Online Meeting\, Online Meeting
GEO:44.9622573;-93.4426615
X-APPLE-STRUCTURED-LOCATION;VALUE=URI;X-ADDRESS=Webinar / Online Meeting Online Meeting;X-APPLE-RADIUS=500;X-TITLE=Online Meeting:geo:-93.4426615,44.9622573
END:VEVENT
BEGIN:VEVENT
DTSTART;TZID=America/New_York:20240221T130000
DTEND;TZID=America/New_York:20240221T140000
DTSTAMP:20260425T083243
CREATED:20240207T000536Z
LAST-MODIFIED:20240207T000536Z
UID:10002592-1708520400-1708524000@www.afcpe.org
SUMMARY:Navigating Finances with Valor: Financial Planning Insights for Military Clients
DESCRIPTION:Navigating Finances with Valor: Financial Planning Insights for Military Clients\nThis webinar is Part 2 of FFP’s series on Pro Bono Financial Planning for Military Personnel\, Veterans\, and Families. In this presentation\, Brandy Baxter\, AFC®\, FFC®\, United States Airforce Veteran\, will build upon Dick Power\, CFP®’s January 18th Presentation about the unique financial circumstances that service members\, veterans\, and their families face. \nAs military members transition from service to civilian life\, many carry the weight of experiences that significantly impact their well-being\, including their financial wellness. Accruing debt is often the norm post-military service\, and debt concerns rank top of mind for many veterans. These money and debt problems can create stress that shows up in many ways such as trouble sleeping\, worrying about having a place to live\, and feeling too embarrassed to request financial guidance. \nBrandy Baxter\, in conversation with Dick Power\, will recap the typical financial profile of military members and the compensation/benefits received\, the unique mental health struggles of service members and veterans\, resources that greatly support military individuals and their families\, and tactics CFP® professional volunteers can use to ensure military members overcome financial barriers and achieve success. \nLearning Objectives\nParticipants in the webinar/course will: \n\nUnderstand the financial profile of a typical active and retired service member;\nExplore common social\, medical\, and mental challenges military families often face; including service-connected disabilities and caregiver challenges;\nExplore other circumstances impacting the financial well-being of military families such as lack of employment\, food insecurity\, and lack of literacy regarding financial products; and\nDiscover the unique skillset and resources financial planners can offer to improve the financial life of military personnel.
URL:https://www.afcpe.org/event/navigating-finances-with-valor-financial-planning-insights-for-military-clients/
LOCATION:Webinar / Online Meeting\, Online Meeting
GEO:44.9622573;-93.4426615
X-APPLE-STRUCTURED-LOCATION;VALUE=URI;X-ADDRESS=Webinar / Online Meeting Online Meeting;X-APPLE-RADIUS=500;X-TITLE=Online Meeting:geo:-93.4426615,44.9622573
END:VEVENT
BEGIN:VEVENT
DTSTART;TZID=America/New_York:20240221T150000
DTEND;TZID=America/New_York:20240221T160000
DTSTAMP:20260425T083243
CREATED:20240110T175503Z
LAST-MODIFIED:20240110T175503Z
UID:10002570-1708527600-1708531200@www.afcpe.org
SUMMARY:Wanna be an AFC®? February Webinar
DESCRIPTION:Wanna be an AFC®? February Webinar\nAre you interested in becoming an Accredited Financial Counselor (AFC®) but not sure if it’s right for you?  Join us for a no-pressure\, informative session where we will give you all the information you need to make your decision. Bring your questions–we love an engaged audience!
URL:https://www.afcpe.org/event/wanna-be-an-afc-february-webinar/
LOCATION:Webinar / Online Meeting\, Online Meeting
GEO:44.9622573;-93.4426615
X-APPLE-STRUCTURED-LOCATION;VALUE=URI;X-ADDRESS=Webinar / Online Meeting Online Meeting;X-APPLE-RADIUS=500;X-TITLE=Online Meeting:geo:-93.4426615,44.9622573
END:VEVENT
BEGIN:VEVENT
DTSTART;TZID=America/New_York:20240222T140000
DTEND;TZID=America/New_York:20240222T150000
DTSTAMP:20260425T083243
CREATED:20240216T185550Z
LAST-MODIFIED:20240221T171043Z
UID:10002598-1708610400-1708614000@www.afcpe.org
SUMMARY:Finance in Full Color: Effectively serving diverse communities
DESCRIPTION:Finance in Full Color: Effectively serving diverse communities\nHow can you tailor educational materials to be inclusive? This webinar aims to provide actionable tips for fostering diversity\, equity\, and inclusion in financial counseling. With presenter Markia Brown\, AFC®️\, and special guest Rahkim Sabree\, AFC®️ at the helm\, the session delves deep into the relevance of culturally sensitive practices\, focusing on the pitfalls of “one size fits all” approaches and the power of tailoring financial advice to diverse backgrounds. \n$50 or free for members.
URL:https://www.afcpe.org/event/finance-in-full-color-effectively-serving-diverse-communities-2/
LOCATION:Webinar / Online Meeting\, Online Meeting
GEO:44.9622573;-93.4426615
X-APPLE-STRUCTURED-LOCATION;VALUE=URI;X-ADDRESS=Webinar / Online Meeting Online Meeting;X-APPLE-RADIUS=500;X-TITLE=Online Meeting:geo:-93.4426615,44.9622573
END:VEVENT
BEGIN:VEVENT
DTSTART;TZID=America/New_York:20240223T130000
DTEND;TZID=America/New_York:20240223T140000
DTSTAMP:20260425T083243
CREATED:20240201T180314Z
LAST-MODIFIED:20240201T180314Z
UID:10002591-1708693200-1708696800@www.afcpe.org
SUMMARY:A Financial Professional’s Guide to the Student Loan SAVE Plan
DESCRIPTION:A Financial Professional’s Guide to the Student Loan SAVE Plan\nIn this class\, financial professionals learn about the Saving on a Valuable Education (SAVE) Plan—the most affordable student loan repayment plan ever created for most borrowers. \nLearn how it can significantly lower monthly payments\, provide generous interest subsidies\, and simplify the complexities of student loan repayment. With a focus on lower and middle-income borrowers\, the SAVE Plan is designed to prevent delinquency or default\, offering unparalleled benefits for your clients. \nStudent loan expert Ryan Law will guide you through the various types of loans\, repayment strategies\, and the transformative impact of the SAVE Plan.\nJoin this class to elevate your advisory skills and stay at the forefront of financial advising in the evolving landscape of student loans.
URL:https://www.afcpe.org/event/a-financial-professionals-guide-to-the-student-loan-save-plan/
LOCATION:Webinar / Online Meeting\, Online Meeting
GEO:44.9622573;-93.4426615
X-APPLE-STRUCTURED-LOCATION;VALUE=URI;X-ADDRESS=Webinar / Online Meeting Online Meeting;X-APPLE-RADIUS=500;X-TITLE=Online Meeting:geo:-93.4426615,44.9622573
END:VEVENT
BEGIN:VEVENT
DTSTART;TZID=America/New_York:20240227T140000
DTEND;TZID=America/New_York:20240227T150000
DTSTAMP:20260425T083243
CREATED:20240214T150432Z
LAST-MODIFIED:20240214T150515Z
UID:10002594-1709042400-1709046000@www.afcpe.org
SUMMARY:Understanding the Financial Needs & Trauma of Your Customers
DESCRIPTION:Understanding the Financial Needs & Trauma of Your Customers\nBanks that understand their customers’ unique needs\, goals and challenges are well positioned to provide them with tailored solutions that improve their financial health. Financial empathy enables financial institutions to provide products and services that help customers and communities overcome financial trauma\, distress\, and abuse. Led by ABA Foundation and the Black Bankers ERG\, this in-depth discussion covers ways that bankers can understand financial trauma and empower all customers to succeed.
URL:https://www.afcpe.org/event/understanding-the-financial-needs-trauma-of-your-customers/
LOCATION:Webinar / Online Meeting\, Online Meeting
GEO:44.9622573;-93.4426615
X-APPLE-STRUCTURED-LOCATION;VALUE=URI;X-ADDRESS=Webinar / Online Meeting Online Meeting;X-APPLE-RADIUS=500;X-TITLE=Online Meeting:geo:-93.4426615,44.9622573
END:VEVENT
BEGIN:VEVENT
DTSTART;TZID=America/New_York:20240228T110000
DTEND;TZID=America/New_York:20240228T120000
DTSTAMP:20260425T083243
CREATED:20240118T003115Z
LAST-MODIFIED:20240118T003324Z
UID:10002582-1709118000-1709121600@www.afcpe.org
SUMMARY:Navigating Goal Congruence with Couples
DESCRIPTION:Navigating Goal Congruence with Couples\nThis one-hour course focuses on helping advisors understand how to navigate working with couples when there is goal incongruence. Being on the same page with goals is crucial for the financial success of the couples. By learning the three areas of goal interdependence\, advisors will know how to assess incongruence\, support\, and navigate conflict.
URL:https://www.afcpe.org/event/navigating-goal-congruence-with-couples/
LOCATION:Webinar / Online Meeting\, Online Meeting
GEO:44.9622573;-93.4426615
X-APPLE-STRUCTURED-LOCATION;VALUE=URI;X-ADDRESS=Webinar / Online Meeting Online Meeting;X-APPLE-RADIUS=500;X-TITLE=Online Meeting:geo:-93.4426615,44.9622573
END:VEVENT
END:VCALENDAR