BEGIN:VCALENDAR
VERSION:2.0
PRODID:-//AFCPE - ECPv6.15.20//NONSGML v1.0//EN
CALSCALE:GREGORIAN
METHOD:PUBLISH
X-WR-CALNAME:AFCPE
X-ORIGINAL-URL:https://www.afcpe.org
X-WR-CALDESC:Events for AFCPE
REFRESH-INTERVAL;VALUE=DURATION:PT1H
X-Robots-Tag:noindex
X-PUBLISHED-TTL:PT1H
BEGIN:VTIMEZONE
TZID:America/New_York
BEGIN:DAYLIGHT
TZOFFSETFROM:-0500
TZOFFSETTO:-0400
TZNAME:EDT
DTSTART:20220313T070000
END:DAYLIGHT
BEGIN:STANDARD
TZOFFSETFROM:-0400
TZOFFSETTO:-0500
TZNAME:EST
DTSTART:20221106T060000
END:STANDARD
BEGIN:DAYLIGHT
TZOFFSETFROM:-0500
TZOFFSETTO:-0400
TZNAME:EDT
DTSTART:20230312T070000
END:DAYLIGHT
BEGIN:STANDARD
TZOFFSETFROM:-0400
TZOFFSETTO:-0500
TZNAME:EST
DTSTART:20231105T060000
END:STANDARD
BEGIN:DAYLIGHT
TZOFFSETFROM:-0500
TZOFFSETTO:-0400
TZNAME:EDT
DTSTART:20240310T070000
END:DAYLIGHT
BEGIN:STANDARD
TZOFFSETFROM:-0400
TZOFFSETTO:-0500
TZNAME:EST
DTSTART:20241103T060000
END:STANDARD
END:VTIMEZONE
BEGIN:VEVENT
DTSTART;TZID=America/New_York:20231129T080000
DTEND;TZID=America/New_York:20231201T170000
DTSTAMP:20260420T202150
CREATED:20231024T203155Z
LAST-MODIFIED:20231024T203641Z
UID:10002543-1701244800-1701450000@www.afcpe.org
SUMMARY:AFCPE® Symposium 2023—In Person or Virtual
DESCRIPTION:Get jazzed up for #AFCPE2023! \nEach year\, the AFCPE Symposium brings together a diverse and inclusive community of professionals working across the personal finance field. \nAFCPE Symposium is the intersection of financial education\, research\, and practice. The expertise and passion of our community make it an event like no other! \nEarn 15 CEUs In Person or 10 CEUs with the Virtual Package. \nMore information →
URL:https://www.afcpe.org/event/afcpe-symposium-2023/
LOCATION:Webinar / Online Meeting\, Online Meeting
GEO:44.9622573;-93.4426615
X-APPLE-STRUCTURED-LOCATION;VALUE=URI;X-ADDRESS=Webinar / Online Meeting Online Meeting;X-APPLE-RADIUS=500;X-TITLE=Online Meeting:geo:-93.4426615,44.9622573
END:VEVENT
BEGIN:VEVENT
DTSTART;TZID=America/New_York:20231129T080000
DTEND;TZID=America/New_York:20231201T170000
DTSTAMP:20260420T202150
CREATED:20240122T205848Z
LAST-MODIFIED:20240122T205848Z
UID:10002590-1701244800-1701450000@www.afcpe.org
SUMMARY:AFCPE® Symposium 2024
DESCRIPTION:Each year\, the AFCPE Symposium brings together a diverse and inclusive community of professionals working across the personal finance field. \nAFCPE Symposium is the intersection of financial education\, research\, and practice. The expertise and passion of our community make it an event like no other!
URL:https://www.afcpe.org/event/afcpe-symposium-2024/
LOCATION:Webinar / Online Meeting\, Online Meeting
GEO:44.9622573;-93.4426615
X-APPLE-STRUCTURED-LOCATION;VALUE=URI;X-ADDRESS=Webinar / Online Meeting Online Meeting;X-APPLE-RADIUS=500;X-TITLE=Online Meeting:geo:-93.4426615,44.9622573
END:VEVENT
BEGIN:VEVENT
DTSTART;VALUE=DATE:20231204
DTEND;VALUE=DATE:20231205
DTSTAMP:20260420T202150
CREATED:20230120T163953Z
LAST-MODIFIED:20230120T164045Z
UID:10002423-1701648000-1701734399@www.afcpe.org
SUMMARY:Financial Social Work Certificate Program (Mar-Oct)
DESCRIPTION:UMSSW’s Financial Social Work Initiative (FSWI) is launching its next online version of the Financial Social Work (FSW) Certificate Program through UMSSW’s Continuing Professional Education (CPE) Office in March 2023! It will meet an identified need for greater financial capability and empowerment knowledge on the part of social workers who practice in non-profit and other social service agencies\, as well as in schools\, medical settings\, and justice and court settings\, and beyond. The FSW Certificate Program will run over multiple sessions from March 2023 to September 2023. Participants must take all the sessions to complete the course. The online formatting design of the FSW Certificate Program will enable rich class discussion and learning through interaction among the macro and clinical practitioners from across the nation. Besides key educators\, the program will feature guest speakers from this important\, emerging area. \nProgram consists of three-course sections- 14 CEUs per section. \nThe FSW Certificate Program is offered typically March-October. It is a virtual program comprised of 16 half-days from 1:00 to 4:30pm EST. Click here for more information on the FSW Certificate Program.
URL:https://www.afcpe.org/event/financial-social-work-certificate-program/2023-12-04/
LOCATION:Webinar / Online Meeting\, Online Meeting
GEO:44.9622573;-93.4426615
X-APPLE-STRUCTURED-LOCATION;VALUE=URI;X-ADDRESS=Webinar / Online Meeting Online Meeting;X-APPLE-RADIUS=500;X-TITLE=Online Meeting:geo:-93.4426615,44.9622573
END:VEVENT
BEGIN:VEVENT
DTSTART;TZID=America/New_York:20231205T120000
DTEND;TZID=America/New_York:20231205T130000
DTSTAMP:20260420T202150
CREATED:20231110T154207Z
LAST-MODIFIED:20231110T154207Z
UID:10002549-1701777600-1701781200@www.afcpe.org
SUMMARY:Member Meet-up: Symposium Takeaways
DESCRIPTION:Member Meet-up: Symposium Takeaways
URL:https://www.afcpe.org/event/member-meet-up-symposium-takeaways/
LOCATION:Webinar / Online Meeting\, Online Meeting
GEO:44.9622573;-93.4426615
X-APPLE-STRUCTURED-LOCATION;VALUE=URI;X-ADDRESS=Webinar / Online Meeting Online Meeting;X-APPLE-RADIUS=500;X-TITLE=Online Meeting:geo:-93.4426615,44.9622573
END:VEVENT
BEGIN:VEVENT
DTSTART;TZID=America/New_York:20231205T130000
DTEND;TZID=America/New_York:20231205T150000
DTSTAMP:20260420T202150
CREATED:20231019T183019Z
LAST-MODIFIED:20231019T183019Z
UID:10002541-1701781200-1701788400@www.afcpe.org
SUMMARY:Education Office Hours
DESCRIPTION:Education Office Hours for AFC® Candidates and Essentials Course Students\nDo you have questions from AFCPE professional development courses or the AFC® online self-study guide? At AFCPE’s Education Office Hours\, you can get an answer from an expert! \nOffice Hours are ideal for AFC candidates and Essentials students who are struggling with the content and would like individual support. For the best success\, write down questions as they come up in your study and bring them to Office Hours.
URL:https://www.afcpe.org/event/education-office-hours-2/
LOCATION:Webinar / Online Meeting\, Online Meeting
GEO:44.9622573;-93.4426615
X-APPLE-STRUCTURED-LOCATION;VALUE=URI;X-ADDRESS=Webinar / Online Meeting Online Meeting;X-APPLE-RADIUS=500;X-TITLE=Online Meeting:geo:-93.4426615,44.9622573
END:VEVENT
BEGIN:VEVENT
DTSTART;TZID=America/New_York:20231207T130000
DTEND;TZID=America/New_York:20231207T143000
DTSTAMP:20260420T202150
CREATED:20231129T144803Z
LAST-MODIFIED:20231129T144803Z
UID:10002553-1701954000-1701959400@www.afcpe.org
SUMMARY:Saving and Investing for Long-term Prosperity
DESCRIPTION:Saving and Investing for Long-term Prosperity\nEveryone knows they should be setting aside money for emergencies\, retirement and financial goals\, but many people still struggle to do it. Often\, people procrastinate because they don’t feel like they can find the money to save or invest\, they don’t know how to get started\, or they don’t feel confident about choosing and managing investments. While saving and investing can sometimes seem like a daunting task\, there are simple steps everyone can take now to ramp up their wealth-building and make strides toward a stronger financial future.
URL:https://www.afcpe.org/event/saving-and-investing-for-long-term-prosperity/
LOCATION:Webinar / Online Meeting\, Online Meeting
GEO:44.9622573;-93.4426615
X-APPLE-STRUCTURED-LOCATION;VALUE=URI;X-ADDRESS=Webinar / Online Meeting Online Meeting;X-APPLE-RADIUS=500;X-TITLE=Online Meeting:geo:-93.4426615,44.9622573
END:VEVENT
BEGIN:VEVENT
DTSTART;TZID=America/New_York:20231212T110000
DTEND;TZID=America/New_York:20231212T123000
DTSTAMP:20260420T202150
CREATED:20230901T161157Z
LAST-MODIFIED:20230901T161326Z
UID:10002529-1702378800-1702384200@www.afcpe.org
SUMMARY:OneOp: 2023 Personal Finance Year in Review
DESCRIPTION:2023 Personal Finance Year in Review\nThe ninth annual OneOp Personal Finance Year in Review webinar summarizes legislation and events that have impacted military personal finances during 2023 and trends that will continue to impact finances in the years ahead. Explore the results of noteworthy personal finance research studies that were published in 2023\, financial events with military-specific implications\, and preview announced changes for 2024. Join this webinar to receive a comprehensive list of resources and complete an activity to identify your key takeaways!  \nCost: See registration with host organization
URL:https://www.afcpe.org/event/2023-personal-finance-year-in-review/
LOCATION:Webinar / Online Meeting\, Online Meeting
GEO:44.9622573;-93.4426615
X-APPLE-STRUCTURED-LOCATION;VALUE=URI;X-ADDRESS=Webinar / Online Meeting Online Meeting;X-APPLE-RADIUS=500;X-TITLE=Online Meeting:geo:-93.4426615,44.9622573
END:VEVENT
BEGIN:VEVENT
DTSTART;TZID=America/New_York:20231212T130000
DTEND;TZID=America/New_York:20231212T140000
DTSTAMP:20260420T202150
CREATED:20231110T154113Z
LAST-MODIFIED:20231110T154113Z
UID:10002548-1702386000-1702389600@www.afcpe.org
SUMMARY:Practitioners Unite! Networking Coffee Chat
DESCRIPTION:Practitioners Unite! Networking Coffee Chat\nJoin us on Tuesday\, December 12th at 1 pm for a virtual networking coffee chat event! Connect with other financial professionals from various industries\, exchange ideas\, and expand your network—all from the comfort of your home. Engage in meaningful conversations\, discover new opportunities\, and build valuable connections in a relaxed and inviting atmosphere. Grab your favorite cup of coffee and get ready to network with like-minded individuals who are eager to connect and collaborate. Register now\, and let’s sip\, chat\, and network together!
URL:https://www.afcpe.org/event/practitioners-unite-networking-coffee-chat-7/
LOCATION:Webinar / Online Meeting\, Online Meeting
GEO:44.9622573;-93.4426615
X-APPLE-STRUCTURED-LOCATION;VALUE=URI;X-ADDRESS=Webinar / Online Meeting Online Meeting;X-APPLE-RADIUS=500;X-TITLE=Online Meeting:geo:-93.4426615,44.9622573
END:VEVENT
BEGIN:VEVENT
DTSTART;TZID=America/New_York:20231212T140000
DTEND;TZID=America/New_York:20231212T150000
DTSTAMP:20260420T202150
CREATED:20231016T155331Z
LAST-MODIFIED:20231016T155331Z
UID:10002536-1702389600-1702393200@www.afcpe.org
SUMMARY:Helping Clients Overcome Financial Self-Sabotage
DESCRIPTION:Helping Clients Overcome Financial Self-Sabotage\nMost approaches to budgeting leave people feeling frustrated and deprived which is understandable since they rely on philosophies that run counter to the psychology of human motivation. Not surprisingly\, fewer than 30% of households keep a regular budget\, and millions are sabotaging their long-term goals as a result. This presentation introduces a new way to create a spending plan grounded in motivational psychology. Advisors will learn how to use Maslow’s Hierarchy of Needs to help clients create spending plans where their numbers and their lifestyles work in harmony\, not in contrast. The result is a life they love within the constraints of the resources they have. \n$49 per class or $149 annually. AFCPE members receive a 25% off discount
URL:https://www.afcpe.org/event/helping-clients-overcome-financial-self-sabotage/
LOCATION:Webinar / Online Meeting\, Online Meeting
GEO:44.9622573;-93.4426615
X-APPLE-STRUCTURED-LOCATION;VALUE=URI;X-ADDRESS=Webinar / Online Meeting Online Meeting;X-APPLE-RADIUS=500;X-TITLE=Online Meeting:geo:-93.4426615,44.9622573
END:VEVENT
BEGIN:VEVENT
DTSTART;TZID=America/New_York:20231214T120000
DTEND;TZID=America/New_York:20231214T130000
DTSTAMP:20260420T202150
CREATED:20231107T191303Z
LAST-MODIFIED:20231221T213845Z
UID:10002547-1702555200-1702558800@www.afcpe.org
SUMMARY:Who Is Your Client? Uncovering The Characteristics That Impact Finances
DESCRIPTION:Who Is Your Client? Uncovering The Characteristics That Impact Finances\nAs financial counselors\, we frequently emphasize the educational aspect of estate planning. Incorporating emotional intelligence into our approach allows us to offer practical solutions and insights to our clients. Join us for a presentation on emotional intelligence and how it can be integrated into your discussions on estate planning through real practical application. \n$50 or free for AFCPE members
URL:https://www.afcpe.org/event/who-is-your-client-uncovering-the-characteristics-that-impact-finances/
LOCATION:Webinar / Online Meeting\, Online Meeting
GEO:44.9622573;-93.4426615
X-APPLE-STRUCTURED-LOCATION;VALUE=URI;X-ADDRESS=Webinar / Online Meeting Online Meeting;X-APPLE-RADIUS=500;X-TITLE=Online Meeting:geo:-93.4426615,44.9622573
END:VEVENT
BEGIN:VEVENT
DTSTART;TZID=America/New_York:20231214T130000
DTEND;TZID=America/New_York:20231214T140000
DTSTAMP:20260420T202150
CREATED:20231121T002824Z
LAST-MODIFIED:20231121T002824Z
UID:10002551-1702558800-1702562400@www.afcpe.org
SUMMARY:Applying the Financial Transitionist™ Model to Pro Bono Financial Planning: Establishing Alignment\, Trust\, and Communication with Clients Facing Life-Disrupting Events
DESCRIPTION:Applying the Financial Transitionist™ Model to Pro Bono Financial Planning: Establishing Alignment\, Trust\, and Communication with Clients Facing Life-Disrupting Events\nPro bono financial planning often requires serving clients who are facing life-disrupting events. During these engagements\, advisors must walk with their clients for a short interval of time to help them navigate their journey from the way life used to be to the way life will be. The challenge is to make the time together as meaningful as possible\, including imparting skills to help clients manage the stress that follows a disruptive life event. In this webinar\, Susan K Bradley\, Founder of the Sudden Money Institute\, will apply the basics of the Financial Transitionist ™ model for managing the human side of major life transitions to the unique circumstances of pro bono engagements.
URL:https://www.afcpe.org/event/applying-the-financial-transitionist-model-to-pro-bono-financial-planning-establishing-alignment-trust-and-communication-with-clients-facing-life-disrupting-events/
LOCATION:Webinar / Online Meeting\, Online Meeting
GEO:44.9622573;-93.4426615
X-APPLE-STRUCTURED-LOCATION;VALUE=URI;X-ADDRESS=Webinar / Online Meeting Online Meeting;X-APPLE-RADIUS=500;X-TITLE=Online Meeting:geo:-93.4426615,44.9622573
END:VEVENT
BEGIN:VEVENT
DTSTART;TZID=America/New_York:20231214T150000
DTEND;TZID=America/New_York:20231214T160000
DTSTAMP:20260420T202150
CREATED:20231101T170031Z
LAST-MODIFIED:20231101T170031Z
UID:10002546-1702566000-1702569600@www.afcpe.org
SUMMARY:Wanna be an AFC? December Webinar
DESCRIPTION:Wanna be an AFC? December Webinar\nAre you interested in becoming an Accredited Financial Counselor (AFC®️) but not sure if it’s right for you? Join us for a no-pressure\, informative session where we will give you all the information you need to make your decision. Bring your questions–we love an engaged audience!
URL:https://www.afcpe.org/event/wanna-be-an-afc-december-webinar/
LOCATION:Webinar / Online Meeting\, Online Meeting
GEO:44.9622573;-93.4426615
X-APPLE-STRUCTURED-LOCATION;VALUE=URI;X-ADDRESS=Webinar / Online Meeting Online Meeting;X-APPLE-RADIUS=500;X-TITLE=Online Meeting:geo:-93.4426615,44.9622573
END:VEVENT
BEGIN:VEVENT
DTSTART;TZID=America/New_York:20231219T130000
DTEND;TZID=America/New_York:20231219T150000
DTSTAMP:20260420T202150
CREATED:20231019T182823Z
LAST-MODIFIED:20231019T182823Z
UID:10002540-1702990800-1702998000@www.afcpe.org
SUMMARY:Education Office Hours
DESCRIPTION:Education Office Hours for AFC® Candidates and Essentials Course Students\nDo you have questions from AFCPE professional development courses or the AFC® online self-study guide? At AFCPE’s Education Office Hours\, you can get an answer from an expert! \nOffice Hours are ideal for AFC candidates and Essentials students who are struggling with the content and would like individual support. For the best success\, write down questions as they come up in your study and bring them to Office Hours.
URL:https://www.afcpe.org/event/education-office-hours/
LOCATION:Webinar / Online Meeting\, Online Meeting
GEO:44.9622573;-93.4426615
X-APPLE-STRUCTURED-LOCATION;VALUE=URI;X-ADDRESS=Webinar / Online Meeting Online Meeting;X-APPLE-RADIUS=500;X-TITLE=Online Meeting:geo:-93.4426615,44.9622573
END:VEVENT
END:VCALENDAR