BEGIN:VCALENDAR
VERSION:2.0
PRODID:-//AFCPE - ECPv6.15.20//NONSGML v1.0//EN
CALSCALE:GREGORIAN
METHOD:PUBLISH
X-ORIGINAL-URL:https://www.afcpe.org
X-WR-CALDESC:Events for AFCPE
REFRESH-INTERVAL;VALUE=DURATION:PT1H
X-Robots-Tag:noindex
X-PUBLISHED-TTL:PT1H
BEGIN:VTIMEZONE
TZID:America/New_York
BEGIN:DAYLIGHT
TZOFFSETFROM:-0500
TZOFFSETTO:-0400
TZNAME:EDT
DTSTART:20220313T070000
END:DAYLIGHT
BEGIN:STANDARD
TZOFFSETFROM:-0400
TZOFFSETTO:-0500
TZNAME:EST
DTSTART:20221106T060000
END:STANDARD
BEGIN:DAYLIGHT
TZOFFSETFROM:-0500
TZOFFSETTO:-0400
TZNAME:EDT
DTSTART:20230312T070000
END:DAYLIGHT
BEGIN:STANDARD
TZOFFSETFROM:-0400
TZOFFSETTO:-0500
TZNAME:EST
DTSTART:20231105T060000
END:STANDARD
BEGIN:DAYLIGHT
TZOFFSETFROM:-0500
TZOFFSETTO:-0400
TZNAME:EDT
DTSTART:20240310T070000
END:DAYLIGHT
BEGIN:STANDARD
TZOFFSETFROM:-0400
TZOFFSETTO:-0500
TZNAME:EST
DTSTART:20241103T060000
END:STANDARD
END:VTIMEZONE
BEGIN:VEVENT
DTSTART;VALUE=DATE:20230320
DTEND;VALUE=DATE:20230521
DTSTAMP:20260422T052047
CREATED:20230320T224945Z
LAST-MODIFIED:20230320T225014Z
UID:10002461-1679270400-1684627199@www.afcpe.org
SUMMARY:Course Open for Enrollment: Certified Military Housing Specialist Program
DESCRIPTION:Course Open for Enrollment: Certified Military Housing Specialist Program \nThis course helps housing professionals make sense of the military language\, rank and pay system\, delivering the tools and knowledge necessary to provide prompt and competitive service to military borrowers in a timely and competitive manner\, especially in a fast-paced market. It also includes advice regarding foreclosure prevention\, with tips that loan officers and realtors can give their clients to help them avoid mortgage delinquencies in the future. \nLearn more on their website.
URL:https://www.afcpe.org/event/course-open-for-enrollment-certified-military-housing-specialist-program/
LOCATION:Webinar / Online Meeting\, Online Meeting
GEO:44.9622573;-93.4426615
X-APPLE-STRUCTURED-LOCATION;VALUE=URI;X-ADDRESS=Webinar / Online Meeting Online Meeting;X-APPLE-RADIUS=500;X-TITLE=Online Meeting:geo:-93.4426615,44.9622573
END:VEVENT
BEGIN:VEVENT
DTSTART;VALUE=DATE:20230403
DTEND;VALUE=DATE:20230404
DTSTAMP:20260422T052047
CREATED:20230120T163953Z
LAST-MODIFIED:20230120T164045Z
UID:10002415-1680480000-1680566399@www.afcpe.org
SUMMARY:Financial Social Work Certificate Program (Mar-Oct)
DESCRIPTION:UMSSW’s Financial Social Work Initiative (FSWI) is launching its next online version of the Financial Social Work (FSW) Certificate Program through UMSSW’s Continuing Professional Education (CPE) Office in March 2023! It will meet an identified need for greater financial capability and empowerment knowledge on the part of social workers who practice in non-profit and other social service agencies\, as well as in schools\, medical settings\, and justice and court settings\, and beyond. The FSW Certificate Program will run over multiple sessions from March 2023 to September 2023. Participants must take all the sessions to complete the course. The online formatting design of the FSW Certificate Program will enable rich class discussion and learning through interaction among the macro and clinical practitioners from across the nation. Besides key educators\, the program will feature guest speakers from this important\, emerging area. \nProgram consists of three-course sections- 14 CEUs per section. \nThe FSW Certificate Program is offered typically March-October. It is a virtual program comprised of 16 half-days from 1:00 to 4:30pm EST. Click here for more information on the FSW Certificate Program.
URL:https://www.afcpe.org/event/financial-social-work-certificate-program/2023-04-03/
LOCATION:Webinar / Online Meeting\, Online Meeting
GEO:44.9622573;-93.4426615
X-APPLE-STRUCTURED-LOCATION;VALUE=URI;X-ADDRESS=Webinar / Online Meeting Online Meeting;X-APPLE-RADIUS=500;X-TITLE=Online Meeting:geo:-93.4426615,44.9622573
END:VEVENT
BEGIN:VEVENT
DTSTART;VALUE=DATE:20230404
DTEND;VALUE=DATE:20230406
DTSTAMP:20260422T052047
CREATED:20230223T021423Z
LAST-MODIFIED:20230331T180805Z
UID:10002451-1680566400-1680739199@www.afcpe.org
SUMMARY:Maryland Financial Education Summit (Virtual)
DESCRIPTION:Maryland Financial Education Summit (Virtual)\nThe 2023 Summit will be held virtually on April 4-5 from 1:00 pm -5:00 pm \nThe Summit brings together up-to-date research\, best practices\, and the insights and expertise of our state’s financial education leaders. Come learn with us through interactive presentations\, plenary sessions and workshops. \nLearn more at https://cashmd.org/financial-education-summit/.
URL:https://www.afcpe.org/event/maryland-financial-education-summit-virtual/
LOCATION:Webinar / Online Meeting\, Online Meeting
GEO:44.9622573;-93.4426615
X-APPLE-STRUCTURED-LOCATION;VALUE=URI;X-ADDRESS=Webinar / Online Meeting Online Meeting;X-APPLE-RADIUS=500;X-TITLE=Online Meeting:geo:-93.4426615,44.9622573
END:VEVENT
BEGIN:VEVENT
DTSTART;TZID=America/New_York:20230404T120000
DTEND;TZID=America/New_York:20230404T130000
DTSTAMP:20260422T052047
CREATED:20230320T225722Z
LAST-MODIFIED:20230320T225722Z
UID:10002464-1680609600-1680613200@www.afcpe.org
SUMMARY:Member Meet-up: Building Community and Support Amongst Financial Professionals
DESCRIPTION:Member Meet-up: Building Community and Support Amongst Financial Professionals\nAs financial counselors\, we provide services to our respective communities that go beyond organizing a budget or discussing debt. We give our clients a space to share what’s truly on their minds and hearts and we work to match their values with their financial goals. At the end of our work day\, who do we turn to? Who can we trust to discuss the ins and outs of being a financial counselor? The purpose of this meet-up\, led by Gwen Hartstein\, is to discuss and learn from one another about how we can build a support network of local financial professionals to share experiences\, learn of new resources and referrals for our clients\, discuss the highs and lows of our profession\, discover new outlets for professional development\, and overall provide and receive support. \nMember Meet-ups are member led and meant to be informative. The success of these events also rely greatly on your participation. Come ready to add to the conversation!
URL:https://www.afcpe.org/event/member-meet-up-building-community-and-support-amongst-financial-professionals/
LOCATION:Webinar / Online Meeting\, Online Meeting
GEO:44.9622573;-93.4426615
X-APPLE-STRUCTURED-LOCATION;VALUE=URI;X-ADDRESS=Webinar / Online Meeting Online Meeting;X-APPLE-RADIUS=500;X-TITLE=Online Meeting:geo:-93.4426615,44.9622573
END:VEVENT
BEGIN:VEVENT
DTSTART;TZID=America/New_York:20230404T130000
DTEND;TZID=America/New_York:20230404T140000
DTSTAMP:20260422T052047
CREATED:20230322T194008Z
LAST-MODIFIED:20230322T194026Z
UID:10002466-1680613200-1680616800@www.afcpe.org
SUMMARY:Education Office Hours
DESCRIPTION:Education Office Hours\nDo you have questions? At AFCPE’s Education Office Hours\, you can get an answer from an expert! \nOffice Hours are ideal for AFC candidates and Essentials students who are struggling with the content would like individual support. For the best success\, write down questions as they come up in your study and bring them to Office Hours.
URL:https://www.afcpe.org/event/education-office-hours-april-4/
LOCATION:Webinar / Online Meeting\, Online Meeting
GEO:44.9622573;-93.4426615
X-APPLE-STRUCTURED-LOCATION;VALUE=URI;X-ADDRESS=Webinar / Online Meeting Online Meeting;X-APPLE-RADIUS=500;X-TITLE=Online Meeting:geo:-93.4426615,44.9622573
END:VEVENT
BEGIN:VEVENT
DTSTART;TZID=America/New_York:20230404T140000
DTEND;TZID=America/New_York:20230404T150000
DTSTAMP:20260422T052047
CREATED:20230320T225456Z
LAST-MODIFIED:20230320T225456Z
UID:10002463-1680616800-1680620400@www.afcpe.org
SUMMARY:Anxious and Stressed: Helping Clients to Manage Emotion and Behavior
DESCRIPTION:Anxious and Stressed: Helping Clients to Manage Emotion and Behavior \nYou’ve heard others speak about their research. Now you can hear from the experts themselves. In this presentation\, Drs. Kristy Archuleta and John Grable will discuss how a client’s anxiety and stress about money can weaken the client-financial planner relationship. You will also learn techniques to better manage money-related anxiety and stress exhibited by clients as a way to move clients toward plan implementation. You will learn when it may be appropriate to make a professional referral.
URL:https://www.afcpe.org/event/anxious-and-stressed-helping-clients-to-manage-emotion-and-behavior/
LOCATION:Webinar / Online Meeting\, Online Meeting
GEO:44.9622573;-93.4426615
X-APPLE-STRUCTURED-LOCATION;VALUE=URI;X-ADDRESS=Webinar / Online Meeting Online Meeting;X-APPLE-RADIUS=500;X-TITLE=Online Meeting:geo:-93.4426615,44.9622573
END:VEVENT
BEGIN:VEVENT
DTSTART;TZID=America/New_York:20230411T110000
DTEND;TZID=America/New_York:20230411T123000
DTSTAMP:20260422T052047
CREATED:20230216T155518Z
LAST-MODIFIED:20230216T155518Z
UID:10002444-1681210800-1681216200@www.afcpe.org
SUMMARY:Helping Clients Inflation-proof Their Budget
DESCRIPTION:Helping Clients Inflation-proof Their Budget\nInflation impacts the purchasing power of service members and their families. This webinar provides an overview of inflation and the expected and unexpected ways inflation may upset a household budget. Learn strategies for managing household spending during challenging financial times\, and discover creative ways to maintain food security within a family’s budget.
URL:https://www.afcpe.org/event/helping-clients-inflation-proof-their-budget/
LOCATION:Webinar / Online Meeting\, Online Meeting
GEO:44.9622573;-93.4426615
X-APPLE-STRUCTURED-LOCATION;VALUE=URI;X-ADDRESS=Webinar / Online Meeting Online Meeting;X-APPLE-RADIUS=500;X-TITLE=Online Meeting:geo:-93.4426615,44.9622573
END:VEVENT
BEGIN:VEVENT
DTSTART;TZID=America/New_York:20230411T130000
DTEND;TZID=America/New_York:20230411T140000
DTSTAMP:20260422T052047
CREATED:20230320T225847Z
LAST-MODIFIED:20230320T225847Z
UID:10002465-1681218000-1681221600@www.afcpe.org
SUMMARY:Practitioners Unite! Our Profession & its Impact on Personal Relationships
DESCRIPTION:Practitioners Unite! Our Profession & its Impact on Personal Relationships\nFor many AFC® & personal finance professionals\, our drive and passion for our work comes from a desire to help others succeed with their money. Often times\, this journey begins with our own personal money stories that we share with others. Next thing you know\, a close friend or family member is asking for advice & the age old advice pops into our mind: “Don’t coach/counsel your family & friends.” But\, is that really the best advice? \nDuring this casual discussion\, we will share our experiences when it comes to our profession and how it can impact personal relationships. Should we help those closest to us? How can we let go of guilt if we don’t help? What are some good ways to say “no”? Should we offer discounts to family or friends? What can we do when our close circle expects our services for free?
URL:https://www.afcpe.org/event/practitioners-unite-our-profession-its-impact-on-personal-relationships/
LOCATION:Webinar / Online Meeting\, Online Meeting
GEO:44.9622573;-93.4426615
X-APPLE-STRUCTURED-LOCATION;VALUE=URI;X-ADDRESS=Webinar / Online Meeting Online Meeting;X-APPLE-RADIUS=500;X-TITLE=Online Meeting:geo:-93.4426615,44.9622573
END:VEVENT
BEGIN:VEVENT
DTSTART;TZID=America/New_York:20230413T120000
DTEND;TZID=America/New_York:20230413T130000
DTSTAMP:20260422T052047
CREATED:20230223T013737Z
LAST-MODIFIED:20230417T220420Z
UID:10002450-1681387200-1681390800@www.afcpe.org
SUMMARY:Exchange Traded Funds (ETFs) 101
DESCRIPTION:Exchange Traded Funds (ETFs) 101\nCelebrate Financial Literacy Month with Cara Macksound\, a Certified Financial Behavior Specialist with a decade of experience trading Exchange Traded Funds (ETFs). What do ETFs have in common with chocolate chip cookies? Find out as Cara covers the basics of ETFs. You will leave with a full understanding of how ETFs are composed\, what benefits and disadvantages they can bring to an investment portfolio\, and how you can explain them to your clients in an accessible and approachable way.
URL:https://www.afcpe.org/event/exchange-traded-funds-etfs-101/
LOCATION:Webinar / Online Meeting\, Online Meeting
GEO:44.9622573;-93.4426615
X-APPLE-STRUCTURED-LOCATION;VALUE=URI;X-ADDRESS=Webinar / Online Meeting Online Meeting;X-APPLE-RADIUS=500;X-TITLE=Online Meeting:geo:-93.4426615,44.9622573
END:VEVENT
BEGIN:VEVENT
DTSTART;VALUE=DATE:20230418
DTEND;VALUE=DATE:20230526
DTSTAMP:20260422T052047
CREATED:20230330T182644Z
LAST-MODIFIED:20230330T182748Z
UID:10002482-1681776000-1685059199@www.afcpe.org
SUMMARY:Book Study: The Psychology of Money
DESCRIPTION:Book Study: The Psychology of Money\n30-minute weekly meetings TBD \nThe Psychology of Money explores how money moves around in an economy and how personal biases and emotional factors play an important role in our financial decisions\, as well as how to think more rationally and make better decisions when it comes to money. \nFinancial professionals come together to discuss and gain knowledge on the impact of psychology on personal finance and investing. Behavior finance plays an important role in how clients make financial decisions. \nApproved for 8 CEUs for AFCs \nApproved for 22 experience hours for AFC candidates (10 hours for book review and 12 hours for training)
URL:https://www.afcpe.org/event/book-study-the-psychology-of-money/
LOCATION:Webinar / Online Meeting\, Online Meeting
GEO:44.9622573;-93.4426615
X-APPLE-STRUCTURED-LOCATION;VALUE=URI;X-ADDRESS=Webinar / Online Meeting Online Meeting;X-APPLE-RADIUS=500;X-TITLE=Online Meeting:geo:-93.4426615,44.9622573
END:VEVENT
BEGIN:VEVENT
DTSTART;TZID=America/New_York:20230418T130000
DTEND;TZID=America/New_York:20230418T140000
DTSTAMP:20260422T052047
CREATED:20230322T201227Z
LAST-MODIFIED:20230322T201227Z
UID:10002467-1681822800-1681826400@www.afcpe.org
SUMMARY:Education Office Hours
DESCRIPTION:Education Office Hours\nDo you have questions? At AFCPE’s Education Office Hours\, you can get an answer from an expert! \nOffice Hours are ideal for AFC candidates and Essentials students who are struggling with the content and would like individual support. For the best success\, write down questions as they come up in your study and bring them to Office Hours.
URL:https://www.afcpe.org/event/education-office-hours-april-18/
LOCATION:Webinar / Online Meeting\, Online Meeting
GEO:44.9622573;-93.4426615
X-APPLE-STRUCTURED-LOCATION;VALUE=URI;X-ADDRESS=Webinar / Online Meeting Online Meeting;X-APPLE-RADIUS=500;X-TITLE=Online Meeting:geo:-93.4426615,44.9622573
END:VEVENT
BEGIN:VEVENT
DTSTART;TZID=America/New_York:20230418T160000
DTEND;TZID=America/New_York:20230418T170000
DTSTAMP:20260422T052047
CREATED:20230131T212837Z
LAST-MODIFIED:20230131T212837Z
UID:10002439-1681833600-1681837200@www.afcpe.org
SUMMARY:Recognizing and Responding to Red Flags for Potential Financial Abuse
DESCRIPTION:Often the victim of financial abuse may not be aware that it is happening. What Habitudes’ results and statements are the red flags to explore? How do you approach this topic and what do you do next? This is especially important for people who focus on finances and do not have a counseling background.
URL:https://www.afcpe.org/event/recognizing-and-responding-to-red-flags-for-potential-financial-abuse/
LOCATION:Webinar / Online Meeting\, Online Meeting
GEO:44.9622573;-93.4426615
X-APPLE-STRUCTURED-LOCATION;VALUE=URI;X-ADDRESS=Webinar / Online Meeting Online Meeting;X-APPLE-RADIUS=500;X-TITLE=Online Meeting:geo:-93.4426615,44.9622573
END:VEVENT
BEGIN:VEVENT
DTSTART;TZID=America/New_York:20230420T120000
DTEND;TZID=America/New_York:20230420T130000
DTSTAMP:20260422T052047
CREATED:20230310T212137Z
LAST-MODIFIED:20230421T205429Z
UID:10002458-1681992000-1681995600@www.afcpe.org
SUMMARY:FPA Connect: Social Security: Surprising Claiming Rules and Unique Circumstances with Real Case Studies
DESCRIPTION:FPA Connect: Social Security: Surprising Claiming Rules and Unique Circumstances with Real Case Studies\nJoin us for an interactive presentation covering some of the least understood Social Security claiming considerations. \nAfter a brief overview of the basics\, we will cover rules related to \n·     How non-covered pensions affect Social Security benefits\, \n·     Dependent benefits for minor and adult disabled children\, \n·     The unique claiming strategies available for Survivor benefits\, \n·     Pitfalls of the earnings test\, and \n·     How Social Security disability benefits transition into retirement benefits. \nAnalyses of real client case studies will be shown to provide insight into the claiming complexities and amount of money involved with these examples. \nPresenter: Martha Shedden
URL:https://www.afcpe.org/event/fpa-connect-social-security-surprising-claiming-rules-and-unique-circumstances-with-real-case-studies/
LOCATION:Webinar / Online Meeting\, Online Meeting
GEO:44.9622573;-93.4426615
X-APPLE-STRUCTURED-LOCATION;VALUE=URI;X-ADDRESS=Webinar / Online Meeting Online Meeting;X-APPLE-RADIUS=500;X-TITLE=Online Meeting:geo:-93.4426615,44.9622573
END:VEVENT
BEGIN:VEVENT
DTSTART;TZID=America/New_York:20230425T130000
DTEND;TZID=America/New_York:20230425T143000
DTSTAMP:20260422T052047
CREATED:20230320T225234Z
LAST-MODIFIED:20230320T225324Z
UID:10002462-1682427600-1682433000@www.afcpe.org
SUMMARY:Empowering Financial Wellness: Investing in Yourself
DESCRIPTION:Empowering Financial Wellness: Investing in Yourself \nWhen consumers invest in themselves\, they are putting in the effort to make their lives better—today and in the future. This includes focusing on actions that will enable them to increase their wealth over the long-term\, such as identifying tools\, accounts\, and strategies that will help them to make investing a lifelong practice. Investing is a crucial step toward achieving long-term financial security and building generational wealth. \nDaphne Wright\, CPA and CFP®️\, will present “Investing in yourself\,” a webinar that will focus on the difference between saving and investing\, and investing as a vehicle to build wealth.
URL:https://www.afcpe.org/event/empowering-financial-wellness-investing-in-yourself/
LOCATION:Webinar / Online Meeting\, Online Meeting
GEO:44.9622573;-93.4426615
X-APPLE-STRUCTURED-LOCATION;VALUE=URI;X-ADDRESS=Webinar / Online Meeting Online Meeting;X-APPLE-RADIUS=500;X-TITLE=Online Meeting:geo:-93.4426615,44.9622573
END:VEVENT
BEGIN:VEVENT
DTSTART;TZID=America/New_York:20230426T110000
DTEND;TZID=America/New_York:20230426T120000
DTSTAMP:20260422T052047
CREATED:20230216T155219Z
LAST-MODIFIED:20230216T155219Z
UID:10002443-1682506800-1682510400@www.afcpe.org
SUMMARY:Medicaid\, Food Security\, & the Social Determinants of Health & Wellbeing
DESCRIPTION:Medicaid\, Food Security\, & the Social Determinants of Health & Wellbeing\nMilitary family readiness promotes service member and family health and well-being in a variety of ways. Among these are helping to connect service members and families to needed resources and supports at the community\, state\, and national level. In addition\, family readiness requires an understanding of the underlying economic\, social\, and environmental factors that influence health status and outcomes. These factors may interact and have a compound effect. For example\, a family facing health care costs may have to cut back on spending for necessary needs such as food and shelter. The inability to afford or access nutritious foods may contribute to chronic health conditions. Programs and services can help to address various threats to health and well-being. Medicaid is one such program. It is a joint federal-state program that has been providing healthcare access and coverage for millions of Americans\, including military families\, since 1965. Join this webinar to explore the connection between Medicaid\, food security\, and the well-being of your clients.
URL:https://www.afcpe.org/event/medicaid-food-security-the-social-determinants-of-health-wellbeing/
LOCATION:Webinar / Online Meeting\, Online Meeting
GEO:44.9622573;-93.4426615
X-APPLE-STRUCTURED-LOCATION;VALUE=URI;X-ADDRESS=Webinar / Online Meeting Online Meeting;X-APPLE-RADIUS=500;X-TITLE=Online Meeting:geo:-93.4426615,44.9622573
END:VEVENT
END:VCALENDAR